BEGIN:VCALENDAR
VERSION:2.0
PRODID:-//Shoulder Cat Studio - ECPv6.15.20//NONSGML v1.0//EN
CALSCALE:GREGORIAN
METHOD:PUBLISH
X-WR-CALNAME:Shoulder Cat Studio
X-ORIGINAL-URL:https://shouldercatstudio.com
X-WR-CALDESC:Events for Shoulder Cat Studio
REFRESH-INTERVAL;VALUE=DURATION:PT1H
X-Robots-Tag:noindex
X-PUBLISHED-TTL:PT1H
BEGIN:VTIMEZONE
TZID:America/New_York
BEGIN:DAYLIGHT
TZOFFSETFROM:-0500
TZOFFSETTO:-0400
TZNAME:EDT
DTSTART:20250309T070000
END:DAYLIGHT
BEGIN:STANDARD
TZOFFSETFROM:-0400
TZOFFSETTO:-0500
TZNAME:EST
DTSTART:20251102T060000
END:STANDARD
BEGIN:DAYLIGHT
TZOFFSETFROM:-0500
TZOFFSETTO:-0400
TZNAME:EDT
DTSTART:20260308T070000
END:DAYLIGHT
BEGIN:STANDARD
TZOFFSETFROM:-0400
TZOFFSETTO:-0500
TZNAME:EST
DTSTART:20261101T060000
END:STANDARD
BEGIN:DAYLIGHT
TZOFFSETFROM:-0500
TZOFFSETTO:-0400
TZNAME:EDT
DTSTART:20270314T070000
END:DAYLIGHT
BEGIN:STANDARD
TZOFFSETFROM:-0400
TZOFFSETTO:-0500
TZNAME:EST
DTSTART:20271107T060000
END:STANDARD
END:VTIMEZONE
BEGIN:VEVENT
DTSTART;VALUE=DATE:20260101
DTEND;VALUE=DATE:20270101
DTSTAMP:20260423T185008
CREATED:20260128T003321Z
LAST-MODIFIED:20260421T131405Z
UID:10000285-1767225600-1798761599@shouldercatstudio.com
SUMMARY:Friday Pottery Date Night/Custom Workshop - 2026
DESCRIPTION:Note: This is an animal-friendly studio. While cleaning is regularly done\, there will most likely be allergens present. Pets are welcomed with permission only. \nAvailability: We are currently booked through April and most of May. Our first available date is May 29\, followed by June 12. \nFor “date night”\, bring a companion for a fun and relaxed 2 hour pottery demonstration (3 hours for four people). During your session\, you will get to try your hand at wheel throwing\, handbuilding or slipcasting\, the choice is yours. We will work together to customize your session. There is no pressure to make a piece and you will have the ability to make 1-2 pieces to keep at the end of the session. This workshop is well-suited for beginners who are new to the pottery. The instructor will help start and finish pieces. \nThe class includes clay\, oxides\, glaze\, and firings. There are general pottery supplies for use in the studio.  An apron and towel will be provided\, though you can bring your own. \nA maximum of two couples\, or four people can be booked per session\, so feel free to bring along some friends. Please only purchase one ticket per pair/two pair. The price for the different tiers is inclusive of all participants. Session dates can be selected during checkout\, though exact date and time will be determined during a follow up email. Note\, dates may need to be adjusted based on availability\, other bookings\, and other factors\, but if a mutually acceptable date cannot be determined\, we will refund your purchase. \nIf there are pieces you would like to keep\, the instructor will clean up and glaze those pieces. Finished pieces will be available to pick up within 3 weeks after the date night session. More information will be provided as needed\, \nPlease contact us if you have questions or need accommodations. \nSLIDING SCALE PRICING\nSliding scale pricing is how we balance the equity scales and we use it to make ceramics education accessible and affordable to all. There are four tiers for pricing. When signing up for this class\, please pay what feels right to you and your current finances. This is a trust based system\, only you will know what feels comfortable and possible. BIPOC and LGBTQIA2S+ are encouraged to pay the Solidarity and Equity Tiers. \nFull-price Tier – This is the actual cost for date night. \nSolidarity Tier – This is a moderately discounted cost for date night. \nEquity Tier – This is a further discounted cost for date night. \nPay-it-Forward Tier – This is a moderately higher cost for date night. This tier helps us continue to offer sliding scale pricing as well as offer low cost workshops.
URL:https://shouldercatstudio.com/event/friday-pottery-date-night-2026/
LOCATION:Shoulder Cat Studio\, 3112 N Peary St\, Arlington\, VA\, 22207\, United States
CATEGORIES:Classes,Workshops
END:VEVENT
BEGIN:VEVENT
DTSTART;TZID=America/New_York:20260101T000000
DTEND;TZID=America/New_York:20261231T000000
DTSTAMP:20260423T185008
CREATED:20260115T162617Z
LAST-MODIFIED:20260317T174521Z
UID:10000287-1767225600-1798675200@shouldercatstudio.com
SUMMARY:Classes and Workshop Schedule for 2026
DESCRIPTION:Thank you for your interest in our classes and workshops. Find our  schedule for the year below; dates are subject to change. Sign up for our newsletter to get notice of advanced registration. Have a workshop idea? Send us an email! \nJanuary 31st – November 6th: Date Night/ Custom Workshops on-demand  \nFebruary – March: Winter/Spring Workshops\, dates and topics TBD \nMarch 15th – April 11th: Spring Throwing and Handbuilding Classes\, evening and weekend hours \nJune 6th – June 27th: Summer Throwing and Handbuilding Classes\, evening and weekend hours \nJuly – August: Summer workshops\, dates and topics TBD \nOctober 16th – November 6th: Fall Throwing and Handbuilding Classes\, evening hours only \nDecember – January: Winter Workshops\, dates and topics TBD
URL:https://shouldercatstudio.com/event/classes-and-workshops-2026/
LOCATION:Shoulder Cat Studio\, 3112 N Peary St\, Arlington\, VA\, 22207\, United States
CATEGORIES:Classes,Handbuilding Series,Wheel Series,Workshops
ATTACH;FMTTYPE=image/jpeg:https://shouldercatstudio.com/wp-content/uploads/2020/12/IMG_0709-scaled.jpg
END:VEVENT
END:VCALENDAR